BEGIN:VCALENDAR
VERSION:2.0
PRODID:-//New Covenant Community Church - ECPv6.15.20//NONSGML v1.0//EN
CALSCALE:GREGORIAN
METHOD:PUBLISH
X-ORIGINAL-URL:https://www.covenantakron.org
X-WR-CALDESC:Events for New Covenant Community Church
REFRESH-INTERVAL;VALUE=DURATION:PT1H
X-Robots-Tag:noindex
X-PUBLISHED-TTL:PT1H
BEGIN:VTIMEZONE
TZID:America/New_York
BEGIN:DAYLIGHT
TZOFFSETFROM:-0500
TZOFFSETTO:-0400
TZNAME:EDT
DTSTART:20200308T070000
END:DAYLIGHT
BEGIN:STANDARD
TZOFFSETFROM:-0400
TZOFFSETTO:-0500
TZNAME:EST
DTSTART:20201101T060000
END:STANDARD
BEGIN:DAYLIGHT
TZOFFSETFROM:-0500
TZOFFSETTO:-0400
TZNAME:EDT
DTSTART:20210314T070000
END:DAYLIGHT
BEGIN:STANDARD
TZOFFSETFROM:-0400
TZOFFSETTO:-0500
TZNAME:EST
DTSTART:20211107T060000
END:STANDARD
BEGIN:DAYLIGHT
TZOFFSETFROM:-0500
TZOFFSETTO:-0400
TZNAME:EDT
DTSTART:20220313T070000
END:DAYLIGHT
BEGIN:STANDARD
TZOFFSETFROM:-0400
TZOFFSETTO:-0500
TZNAME:EST
DTSTART:20221106T060000
END:STANDARD
END:VTIMEZONE
BEGIN:VEVENT
DTSTART;TZID=America/New_York:20210502T140000
DTEND;TZID=America/New_York:20210502T150000
DTSTAMP:20260423T051145
CREATED:20210419T181242Z
LAST-MODIFIED:20210419T181242Z
UID:232165-1619964000-1619967600@www.covenantakron.org
SUMMARY:12th Annual Fairlawn Hunger Walk (Drive-Thru)
DESCRIPTION:Come by Unitarian Universalist Church\, 3300 Morewood Road\, Fairlawn to drop off monetary donations\, canned goods or shelf-stable food. \nThis drive-thru donation event is scheduled to run from 2:00- 3:00 p.m. \nInteractive Hunger Walk Flyer
URL:https://www.covenantakron.org/event/12th-annual-fairlawn-hunger-walk-drive-thru/
LOCATION:Unitarian Universalist Church of Akron\, 3300 Morewood Road\, Akron\, OH\, 44333\, United States
CATEGORIES:Donation Drop-Off
END:VEVENT
END:VCALENDAR