BEGIN:VCALENDAR
VERSION:2.0
PRODID:-//New Covenant Community Church - ECPv6.15.20//NONSGML v1.0//EN
CALSCALE:GREGORIAN
METHOD:PUBLISH
X-ORIGINAL-URL:https://www.covenantakron.org
X-WR-CALDESC:Events for New Covenant Community Church
REFRESH-INTERVAL;VALUE=DURATION:PT1H
X-Robots-Tag:noindex
X-PUBLISHED-TTL:PT1H
BEGIN:VTIMEZONE
TZID:America/New_York
BEGIN:DAYLIGHT
TZOFFSETFROM:-0500
TZOFFSETTO:-0400
TZNAME:EDT
DTSTART:20210314T070000
END:DAYLIGHT
BEGIN:STANDARD
TZOFFSETFROM:-0400
TZOFFSETTO:-0500
TZNAME:EST
DTSTART:20211107T060000
END:STANDARD
BEGIN:DAYLIGHT
TZOFFSETFROM:-0500
TZOFFSETTO:-0400
TZNAME:EDT
DTSTART:20220313T070000
END:DAYLIGHT
BEGIN:STANDARD
TZOFFSETFROM:-0400
TZOFFSETTO:-0500
TZNAME:EST
DTSTART:20221106T060000
END:STANDARD
BEGIN:DAYLIGHT
TZOFFSETFROM:-0500
TZOFFSETTO:-0400
TZNAME:EDT
DTSTART:20230312T070000
END:DAYLIGHT
BEGIN:STANDARD
TZOFFSETFROM:-0400
TZOFFSETTO:-0500
TZNAME:EST
DTSTART:20231105T060000
END:STANDARD
END:VTIMEZONE
BEGIN:VEVENT
DTSTART;TZID=America/New_York:20220827T180000
DTEND;TZID=America/New_York:20220827T200000
DTSTAMP:20260420T025749
CREATED:20220907T154334Z
LAST-MODIFIED:20220907T154334Z
UID:233144-1661623200-1661630400@www.covenantakron.org
SUMMARY:Caribbean Nights
DESCRIPTION:Steel drums added to the festivities. \nFun\, food and fellowship were just three of the ingredients to our social gathering. \nDishes like jerk chicken\, key lime avocado dip\, fried plantains and pig pickin’ cake\, added to the flavor of the evening.
URL:https://www.covenantakron.org/event/caribbean-nights-2/
LOCATION:OH
CATEGORIES:Brunches & Dinners
END:VEVENT
BEGIN:VEVENT
DTSTART;TZID=America/New_York:20220827T180000
DTEND;TZID=America/New_York:20220827T213000
DTSTAMP:20260420T025749
CREATED:20220815T145533Z
LAST-MODIFIED:20220815T145533Z
UID:233077-1661623200-1661635800@www.covenantakron.org
SUMMARY:Caribbean Nights
DESCRIPTION:We’ll enjoy a night of friends\, food and fellowship. \nFound Sounds featuring Matt Dudack and his sound will provide the entertainment. Matt is the Artistic Director for The University Of Akron’s Steel Drum Band​. His arrangements and original compositions have been featured both in performance and on the band’s recordings. Part of his duties at the University of Akron include teaching an arranging class for steel drums and private lessons. \nIn 2002\, Matt traveled to Trinidad to get a first-hand look at the home of pan\, and was able to perform during Panorama with the Invaders Steelband. In 2010\, Matt travelled again to Trinidad and Tobago\,  as executive director for “Hammer on Steel\,” a DVD and PBS broadcast which was nominated for 8 Emmy awards. \n 
URL:https://www.covenantakron.org/event/caribbean-nights/
LOCATION:OH
CATEGORIES:Brunches & Dinners
END:VEVENT
END:VCALENDAR