BEGIN:VCALENDAR
VERSION:2.0
PRODID:-//New Covenant Community Church - ECPv6.15.20//NONSGML v1.0//EN
CALSCALE:GREGORIAN
METHOD:PUBLISH
X-ORIGINAL-URL:https://www.covenantakron.org
X-WR-CALDESC:Events for New Covenant Community Church
REFRESH-INTERVAL;VALUE=DURATION:PT1H
X-Robots-Tag:noindex
X-PUBLISHED-TTL:PT1H
BEGIN:VTIMEZONE
TZID:America/New_York
BEGIN:DAYLIGHT
TZOFFSETFROM:-0500
TZOFFSETTO:-0400
TZNAME:EDT
DTSTART:20200308T070000
END:DAYLIGHT
BEGIN:STANDARD
TZOFFSETFROM:-0400
TZOFFSETTO:-0500
TZNAME:EST
DTSTART:20201101T060000
END:STANDARD
BEGIN:DAYLIGHT
TZOFFSETFROM:-0500
TZOFFSETTO:-0400
TZNAME:EDT
DTSTART:20210314T070000
END:DAYLIGHT
BEGIN:STANDARD
TZOFFSETFROM:-0400
TZOFFSETTO:-0500
TZNAME:EST
DTSTART:20211107T060000
END:STANDARD
BEGIN:DAYLIGHT
TZOFFSETFROM:-0500
TZOFFSETTO:-0400
TZNAME:EDT
DTSTART:20220313T070000
END:DAYLIGHT
BEGIN:STANDARD
TZOFFSETFROM:-0400
TZOFFSETTO:-0500
TZNAME:EST
DTSTART:20221106T060000
END:STANDARD
END:VTIMEZONE
BEGIN:VEVENT
DTSTART;TZID=America/New_York:20211002T090000
DTEND;TZID=America/New_York:20211003T170000
DTSTAMP:20260420T055723
CREATED:20210906T195718Z
LAST-MODIFIED:20210906T195836Z
UID:232439-1633165200-1633280400@www.covenantakron.org
SUMMARY:Mitzvah Day Akron Weekend
DESCRIPTION:Mitzvah Day Akron involves 8-10 congregations—NCCC\, Faith Lutheran\, St. Hilary\, Fairlawn West\, New Hope Baptist\, Temple Israel\, Akron First Seventh Day Adventist\, ISAK\, The UU Church of Akron\, and others– that gather for two days to work on various community-based projects. The weekend ends with a dinner at Temple Israel. Congregations sign-up for projects such as painting a home for a family\, sprucing up the grounds\, knitting scarves\, doing crafts with kids\,  etc.
URL:https://www.covenantakron.org/event/mitzvah-day-weekend/
LOCATION:Various
CATEGORIES:Community Outreach
ATTACH;FMTTYPE=image/png:https://www.covenantakron.org/wp-content/uploads/2021/09/MitzvahDay.png
END:VEVENT
END:VCALENDAR