BEGIN:VCALENDAR
VERSION:2.0
PRODID:-//New Covenant Community Church - ECPv6.15.20//NONSGML v1.0//EN
CALSCALE:GREGORIAN
METHOD:PUBLISH
X-WR-CALNAME:New Covenant Community Church
X-ORIGINAL-URL:https://www.covenantakron.org
X-WR-CALDESC:Events for New Covenant Community Church
REFRESH-INTERVAL;VALUE=DURATION:PT1H
X-Robots-Tag:noindex
X-PUBLISHED-TTL:PT1H
BEGIN:VTIMEZONE
TZID:America/New_York
BEGIN:DAYLIGHT
TZOFFSETFROM:-0500
TZOFFSETTO:-0400
TZNAME:EDT
DTSTART:20210314T070000
END:DAYLIGHT
BEGIN:STANDARD
TZOFFSETFROM:-0400
TZOFFSETTO:-0500
TZNAME:EST
DTSTART:20211107T060000
END:STANDARD
BEGIN:DAYLIGHT
TZOFFSETFROM:-0500
TZOFFSETTO:-0400
TZNAME:EDT
DTSTART:20220313T070000
END:DAYLIGHT
BEGIN:STANDARD
TZOFFSETFROM:-0400
TZOFFSETTO:-0500
TZNAME:EST
DTSTART:20221106T060000
END:STANDARD
BEGIN:DAYLIGHT
TZOFFSETFROM:-0500
TZOFFSETTO:-0400
TZNAME:EDT
DTSTART:20230312T070000
END:DAYLIGHT
BEGIN:STANDARD
TZOFFSETFROM:-0400
TZOFFSETTO:-0500
TZNAME:EST
DTSTART:20231105T060000
END:STANDARD
END:VTIMEZONE
BEGIN:VEVENT
DTSTART;VALUE=DATE:20221002
DTEND;VALUE=DATE:20221003
DTSTAMP:20260419T083909
CREATED:20220919T155253Z
LAST-MODIFIED:20220919T155618Z
UID:233188-1664668800-1664755199@www.covenantakron.org
SUMMARY:World Communion Sunday
DESCRIPTION:World Communion Sunday is the first Sunday in October. The day celebrates our oneness in Christ with all our brothers and sisters around the world. \nCelebration of World Wide Communion Sunday was adopted as a denominational practice in the Presbyterian Church (US) in 1936.  Churches in other denominations were invited to join the celebration when it started\, but it wasn’t until 1940 when the Department of Evangelism of the Federal Council of Churches (a predecessor of the National Council of Churches) promoted extending the celebration to a number of churches around the world that the practice became widespread.  Today\, World Communion Sunday is celebrated around the world. \n \n  \n  \n  \nJoin us as we celebrate during our 10:30 a.m.\, worship service.
URL:https://www.covenantakron.org/event/world-communion-sunday/
LOCATION:New Covenanty Community Church\, 1587 West Exchange Street\, Akron\, OH\, 44313\, United States
CATEGORIES:Community Outreach
END:VEVENT
BEGIN:VEVENT
DTSTART;TZID=America/New_York:20221013T180000
DTEND;TZID=America/New_York:20221013T190000
DTSTAMP:20260419T083909
CREATED:20221006T182245Z
LAST-MODIFIED:20221006T182733Z
UID:233278-1665684000-1665687600@www.covenantakron.org
SUMMARY:Faithful Innovation Team
DESCRIPTION:The FIT group is meeting this Thursday at North Springfield Presbyterian Church at 6 pm
URL:https://www.covenantakron.org/event/faithful-innovation-team/
LOCATION:North Springfield Presbyterian Church\, 671 Canton Rd\, Akron\, OH\, United States
CATEGORIES:Community Outreach,Meetings
END:VEVENT
BEGIN:VEVENT
DTSTART;TZID=America/New_York:20221029T170000
DTEND;TZID=America/New_York:20221029T180000
DTSTAMP:20260419T083909
CREATED:20220927T193009Z
LAST-MODIFIED:20220927T193919Z
UID:233249-1667062800-1667066400@www.covenantakron.org
SUMMARY:Trunk-or-Treat
DESCRIPTION:Load up on treats\, just by walking through our parking lot.  We want parents and children to have a safe way to celebrate the holiday.
URL:https://www.covenantakron.org/event/trunk-or-treat/
LOCATION:NCCC Lawn\, 1587 West Exchange St.\, Akron\, OH\, 44313
CATEGORIES:Community Outreach,Holiday
END:VEVENT
END:VCALENDAR