BEGIN:VCALENDAR
VERSION:2.0
PRODID:-//New Covenant Community Church - ECPv6.15.20//NONSGML v1.0//EN
CALSCALE:GREGORIAN
METHOD:PUBLISH
X-ORIGINAL-URL:https://www.covenantakron.org
X-WR-CALDESC:Events for New Covenant Community Church
REFRESH-INTERVAL;VALUE=DURATION:PT1H
X-Robots-Tag:noindex
X-PUBLISHED-TTL:PT1H
BEGIN:VTIMEZONE
TZID:America/New_York
BEGIN:DAYLIGHT
TZOFFSETFROM:-0500
TZOFFSETTO:-0400
TZNAME:EDT
DTSTART:20190310T070000
END:DAYLIGHT
BEGIN:STANDARD
TZOFFSETFROM:-0400
TZOFFSETTO:-0500
TZNAME:EST
DTSTART:20191103T060000
END:STANDARD
BEGIN:DAYLIGHT
TZOFFSETFROM:-0500
TZOFFSETTO:-0400
TZNAME:EDT
DTSTART:20200308T070000
END:DAYLIGHT
BEGIN:STANDARD
TZOFFSETFROM:-0400
TZOFFSETTO:-0500
TZNAME:EST
DTSTART:20201101T060000
END:STANDARD
BEGIN:DAYLIGHT
TZOFFSETFROM:-0500
TZOFFSETTO:-0400
TZNAME:EDT
DTSTART:20210314T070000
END:DAYLIGHT
BEGIN:STANDARD
TZOFFSETFROM:-0400
TZOFFSETTO:-0500
TZNAME:EST
DTSTART:20211107T060000
END:STANDARD
END:VTIMEZONE
BEGIN:VEVENT
DTSTART;TZID=America/New_York:20201112T110000
DTEND;TZID=America/New_York:20201112T130000
DTSTAMP:20260422T224736
CREATED:20201026T193804Z
LAST-MODIFIED:20201026T193804Z
UID:231808-1605178800-1605186000@www.covenantakron.org
SUMMARY:Mitten Tree Donation Drop-Off
DESCRIPTION:Drop off hats\, gloves\, mittens\, scarves\, and socks for boys and girls—all ages—plus hoodies for teen boys and girls in the box in Fellowship Hall.  Gift cards for Walmart\, Save-a-Lot\, and Family Dollar are also accepted and appreciated.
URL:https://www.covenantakron.org/event/mitten-tree-donation-drop-off/
LOCATION:NCCC Fellowship Hall\, 1587 West Exchange St.\, Akron\, OH\, 44313\, United States
CATEGORIES:Donation Drop-Off
END:VEVENT
END:VCALENDAR