BEGIN:VCALENDAR
VERSION:2.0
PRODID:-//New Covenant Community Church - ECPv6.15.20//NONSGML v1.0//EN
CALSCALE:GREGORIAN
METHOD:PUBLISH
X-WR-CALNAME:New Covenant Community Church
X-ORIGINAL-URL:https://www.covenantakron.org
X-WR-CALDESC:Events for New Covenant Community Church
REFRESH-INTERVAL;VALUE=DURATION:PT1H
X-Robots-Tag:noindex
X-PUBLISHED-TTL:PT1H
BEGIN:VTIMEZONE
TZID:America/New_York
BEGIN:DAYLIGHT
TZOFFSETFROM:-0500
TZOFFSETTO:-0400
TZNAME:EDT
DTSTART:20210314T070000
END:DAYLIGHT
BEGIN:STANDARD
TZOFFSETFROM:-0400
TZOFFSETTO:-0500
TZNAME:EST
DTSTART:20211107T060000
END:STANDARD
BEGIN:DAYLIGHT
TZOFFSETFROM:-0500
TZOFFSETTO:-0400
TZNAME:EDT
DTSTART:20220313T070000
END:DAYLIGHT
BEGIN:STANDARD
TZOFFSETFROM:-0400
TZOFFSETTO:-0500
TZNAME:EST
DTSTART:20221106T060000
END:STANDARD
BEGIN:DAYLIGHT
TZOFFSETFROM:-0500
TZOFFSETTO:-0400
TZNAME:EDT
DTSTART:20230312T070000
END:DAYLIGHT
BEGIN:STANDARD
TZOFFSETFROM:-0400
TZOFFSETTO:-0500
TZNAME:EST
DTSTART:20231105T060000
END:STANDARD
BEGIN:DAYLIGHT
TZOFFSETFROM:-0500
TZOFFSETTO:-0400
TZNAME:EDT
DTSTART:20240310T070000
END:DAYLIGHT
BEGIN:STANDARD
TZOFFSETFROM:-0400
TZOFFSETTO:-0500
TZNAME:EST
DTSTART:20241103T060000
END:STANDARD
END:VTIMEZONE
BEGIN:VEVENT
DTSTART;TZID=America/New_York:20220517T170000
DTEND;TZID=America/New_York:20220517T180000
DTSTAMP:20260422T175708
CREATED:20220517T150302Z
LAST-MODIFIED:20220517T150302Z
UID:232836-1652806800-1652810400@www.covenantakron.org
SUMMARY:Mission Committee Meeting
DESCRIPTION:Mission Committee is scheduled to meet the third Tuesday of each month at 5:00
URL:https://www.covenantakron.org/event/mission-committee-meeting/
LOCATION:NCCC Fellowship Hall\, 1587 West Exchange St.\, Akron\, OH\, 44313\, United States
CATEGORIES:Meetings
END:VEVENT
BEGIN:VEVENT
DTSTART;TZID=America/New_York:20220602T103000
DTEND;TZID=America/New_York:20220602T113000
DTSTAMP:20260422T175708
CREATED:20220526T163313Z
LAST-MODIFIED:20220526T163313Z
UID:232855-1654165800-1654169400@www.covenantakron.org
SUMMARY:Fellowship Committee Meeting
DESCRIPTION:We have lots of fun events to plan that are coming up in the near future.
URL:https://www.covenantakron.org/event/fellowship-committee-meeting-2/
LOCATION:NCCC Fellowship Hall\, 1587 West Exchange St.\, Akron\, OH\, 44313\, United States
CATEGORIES:Meetings
END:VEVENT
BEGIN:VEVENT
DTSTART;TZID=America/New_York:20220724T113000
DTEND;TZID=America/New_York:20220724T120000
DTSTAMP:20260422T175708
CREATED:20220718T151028Z
LAST-MODIFIED:20220718T151056Z
UID:233025-1658662200-1658664000@www.covenantakron.org
SUMMARY:Congregational Meeting
DESCRIPTION:Please pray about and plan to attend a very important congregational meeting\, which will be held Sunday\, July 24\, following morning service. \n 
URL:https://www.covenantakron.org/event/congregational-meeting/
LOCATION:New Covenanty Community Church\, 1587 West Exchange Street\, Akron\, OH\, 44313\, United States
CATEGORIES:Meetings
END:VEVENT
BEGIN:VEVENT
DTSTART;TZID=America/New_York:20220812T103000
DTEND;TZID=America/New_York:20220812T110000
DTSTAMP:20260422T175708
CREATED:20220809T141229Z
LAST-MODIFIED:20220809T141229Z
UID:233064-1660300200-1660302000@www.covenantakron.org
SUMMARY:Fellowship Committee Meeting
DESCRIPTION:The Fellowship Committee will meet at 10:30 a.m.\, in Fellowship Hall.  On the agenda—final details of the Caribbean party\, an early fall activity\, and a possible ladies’ lunch.  Everyone is welcome to attend and give suggestions.
URL:https://www.covenantakron.org/event/fellowship-committee-meeting-3/
LOCATION:NCCC Fellowship Hall\, 1587 West Exchange St.\, Akron\, OH\, 44313\, United States
CATEGORIES:Meetings
END:VEVENT
BEGIN:VEVENT
DTSTART;TZID=America/New_York:20220906T190000
DTEND;TZID=America/New_York:20220906T193000
DTSTAMP:20260422T175708
CREATED:20220906T194123Z
LAST-MODIFIED:20220906T194123Z
UID:233132-1662490800-1662492600@www.covenantakron.org
SUMMARY:Worship Committee Meeting
DESCRIPTION:Members of the Worship Committee are asked to attend this special meeting.
URL:https://www.covenantakron.org/event/worship-committee-meeting/
LOCATION:NCCC Fellowship Hall\, 1587 West Exchange St.\, Akron\, OH\, 44313\, United States
CATEGORIES:Meetings
END:VEVENT
BEGIN:VEVENT
DTSTART;TZID=America/New_York:20220908T160000
DTEND;TZID=America/New_York:20220908T163000
DTSTAMP:20260422T175708
CREATED:20220906T194537Z
LAST-MODIFIED:20220906T194627Z
UID:233135-1662652800-1662654600@www.covenantakron.org
SUMMARY:Special Governing Board Meeting
DESCRIPTION:A special Governing Board meeting has been called for Thursday\, September 8\, 2022. Please\, make plans to attend.
URL:https://www.covenantakron.org/event/special-governing-board-meeting/
LOCATION:NCCC Fellowship Hall\, 1587 West Exchange St.\, Akron\, OH\, 44313\, United States
CATEGORIES:Meetings
END:VEVENT
BEGIN:VEVENT
DTSTART;TZID=America/New_York:20220920T110000
DTEND;TZID=America/New_York:20220920T113000
DTSTAMP:20260422T175708
CREATED:20220919T172339Z
LAST-MODIFIED:20220919T172339Z
UID:233204-1663671600-1663673400@www.covenantakron.org
SUMMARY:Finance Committee Meeting
DESCRIPTION:
URL:https://www.covenantakron.org/event/finance-committee-meeting/
LOCATION:New Covenant Community Church Fellowship Hall\, 1587 W Exchange St\, Akron\, OH\, 44313\, United States
CATEGORIES:Meetings
END:VEVENT
BEGIN:VEVENT
DTSTART;TZID=America/New_York:20220920T160000
DTEND;TZID=America/New_York:20220920T163000
DTSTAMP:20260422T175708
CREATED:20220919T172353Z
LAST-MODIFIED:20220919T173342Z
UID:233206-1663689600-1663691400@www.covenantakron.org
SUMMARY:Mission Committee Meeting
DESCRIPTION:Our Mission Committee works with local\, national\, and international mission partnerships\, to assist those in need.
URL:https://www.covenantakron.org/event/mission-co/
LOCATION:New Covenant Community Church Fellowship Hall\, 1587 W Exchange St\, Akron\, OH\, 44313\, United States
CATEGORIES:Meetings
END:VEVENT
BEGIN:VEVENT
DTSTART;TZID=America/New_York:20220926T160000
DTEND;TZID=America/New_York:20220926T170000
DTSTAMP:20260422T175708
CREATED:20220919T173536Z
LAST-MODIFIED:20220919T173923Z
UID:233211-1664208000-1664211600@www.covenantakron.org
SUMMARY:Governing Board Meeting
DESCRIPTION:
URL:https://www.covenantakron.org/event/governing-board-meeting-5/
LOCATION:New Covenant Community Church Fellowship Hall\, 1587 W Exchange St\, Akron\, OH\, 44313\, United States
CATEGORIES:Meetings
END:VEVENT
BEGIN:VEVENT
DTSTART;TZID=America/New_York:20221003T190000
DTEND;TZID=America/New_York:20221003T200000
DTSTAMP:20260422T175708
CREATED:20220920T132612Z
LAST-MODIFIED:20220920T132612Z
UID:233213-1664823600-1664827200@www.covenantakron.org
SUMMARY:Worship Committee Meeting
DESCRIPTION:
URL:https://www.covenantakron.org/event/worship-committee-meeting-2/
LOCATION:New Covenanty Community Church\, 1587 West Exchange Street\, Akron\, OH\, 44313\, United States
CATEGORIES:Meetings
END:VEVENT
BEGIN:VEVENT
DTSTART;TZID=America/New_York:20221013T180000
DTEND;TZID=America/New_York:20221013T190000
DTSTAMP:20260422T175708
CREATED:20221006T182245Z
LAST-MODIFIED:20221006T182733Z
UID:233278-1665684000-1665687600@www.covenantakron.org
SUMMARY:Faithful Innovation Team
DESCRIPTION:The FIT group is meeting this Thursday at North Springfield Presbyterian Church at 6 pm
URL:https://www.covenantakron.org/event/faithful-innovation-team/
LOCATION:North Springfield Presbyterian Church\, 671 Canton Rd\, Akron\, OH\, United States
CATEGORIES:Community Outreach,Meetings
END:VEVENT
BEGIN:VEVENT
DTSTART;TZID=America/New_York:20221018T090000
DTEND;TZID=America/New_York:20221018T100000
DTSTAMP:20260422T175708
CREATED:20221017T153859Z
LAST-MODIFIED:20221017T162622Z
UID:233303-1666083600-1666087200@www.covenantakron.org
SUMMARY:New Initiatives
DESCRIPTION:Discussions include: \n\nTrunk or Treat\nCollection and participation in a Christmas party sponsored by AIIA and AAIC for families in the North Hill area at\n\nBlessed Trinity Catholic Church\, 300 Tallmadge Av.\nSaturday December 17\n6:00 p.m.\n\n\nPossibly attending  a Christmas concert at\n\nSt. Paul’s Catholic Church\nDecember 3\nwith Firestone Park churches
URL:https://www.covenantakron.org/event/new-initiatives/
LOCATION:NCCC Fellowship Hall\, 1587 West Exchange St.\, Akron\, OH\, 44313\, United States
CATEGORIES:Meetings
END:VEVENT
BEGIN:VEVENT
DTSTART;TZID=America/New_York:20221018T130000
DTEND;TZID=America/New_York:20221018T140000
DTSTAMP:20260422T175708
CREATED:20221003T151029Z
LAST-MODIFIED:20221017T152835Z
UID:233267-1666098000-1666101600@www.covenantakron.org
SUMMARY:Finance Committee Meeting
DESCRIPTION:The Financial Committee will meet to discuss the budget\, fiscal health and financial viability of the church.
URL:https://www.covenantakron.org/event/finance-committee-meeting-2/
LOCATION:New Covenant Community Church Fellowship Hall\, 1587 W Exchange St\, Akron\, OH\, 44313\, United States
CATEGORIES:Meetings
END:VEVENT
BEGIN:VEVENT
DTSTART;TZID=America/New_York:20221024T160000
DTEND;TZID=America/New_York:20221024T170000
DTSTAMP:20260422T175708
CREATED:20221003T150304Z
LAST-MODIFIED:20221003T150304Z
UID:233263-1666627200-1666630800@www.covenantakron.org
SUMMARY:Governing Board Meeting
DESCRIPTION:This is a regular meeting of the governing board and members of the church leadership team\, at which time they discuss the financial health and spiritual direction of the church.
URL:https://www.covenantakron.org/event/governing-board-meeting-6/
LOCATION:NCCC Fellowship Hall\, 1587 West Exchange St.\, Akron\, OH\, 44313\, United States
CATEGORIES:Meetings
END:VEVENT
BEGIN:VEVENT
DTSTART;TZID=America/New_York:20221025T140000
DTEND;TZID=America/New_York:20221025T143000
DTSTAMP:20260422T175708
CREATED:20220927T193613Z
LAST-MODIFIED:20221017T142828Z
UID:233251-1666706400-1666708200@www.covenantakron.org
SUMMARY:Fellowship Committee Meeting
DESCRIPTION:On the agenda – plan Christmas party and events for early 2023
URL:https://www.covenantakron.org/event/fellowship-committee-meeting-4/
LOCATION:NCCC Fellowship Hall\, 1587 West Exchange St.\, Akron\, OH\, 44313\, United States
CATEGORIES:Meetings
END:VEVENT
BEGIN:VEVENT
DTSTART;TZID=America/New_York:20221110T180000
DTEND;TZID=America/New_York:20221110T203000
DTSTAMP:20260422T175708
CREATED:20221109T192256Z
LAST-MODIFIED:20221109T192256Z
UID:233367-1668103200-1668112200@www.covenantakron.org
SUMMARY:General FIT Dinner and Discussion
DESCRIPTION:
URL:https://www.covenantakron.org/event/general-fit-dinner-and-discussion/
LOCATION:North Springfield Presbyterian Church\, 671 Canton Rd\, Akron\, OH\, United States
CATEGORIES:Brunches & Dinners,Meetings
END:VEVENT
BEGIN:VEVENT
DTSTART;TZID=America/New_York:20221115T153000
DTEND;TZID=America/New_York:20221115T160000
DTSTAMP:20260422T175708
CREATED:20221114T180058Z
LAST-MODIFIED:20221114T180058Z
UID:233379-1668526200-1668528000@www.covenantakron.org
SUMMARY:Mission Committee Meeting
DESCRIPTION:Helping people in the Akron metro\, across the country and around the world.\nDiscuss current and upcoming mission projects.
URL:https://www.covenantakron.org/event/mission-committee-meeting-2/
LOCATION:New Covenanty Community Church\, 1587 West Exchange Street\, Akron\, OH\, 44313\, United States
CATEGORIES:Meetings
END:VEVENT
BEGIN:VEVENT
DTSTART;TZID=America/New_York:20221127T113000
DTEND;TZID=America/New_York:20221127T120000
DTSTAMP:20260422T175708
CREATED:20221121T180146Z
LAST-MODIFIED:20221121T180146Z
UID:233391-1669548600-1669550400@www.covenantakron.org
SUMMARY:Congregational Meeting
DESCRIPTION:Immediately following service\, the congregational meeting will allow us to discuss and vote on the 2023 Governing Board & Nominating Committee candidates.
URL:https://www.covenantakron.org/event/congregational-meeting-2/
LOCATION:New Covenanty Community Church\, 1587 West Exchange Street\, Akron\, OH\, 44313\, United States
CATEGORIES:Meetings
END:VEVENT
BEGIN:VEVENT
DTSTART;TZID=America/New_York:20221205T160000
DTEND;TZID=America/New_York:20221205T170000
DTSTAMP:20260422T175708
CREATED:20221205T172040Z
LAST-MODIFIED:20221205T172040Z
UID:233426-1670256000-1670259600@www.covenantakron.org
SUMMARY:Worship Committee Meeting
DESCRIPTION:The Worship Committee will meet Monday afternoon at 4:00 p.m. via Zoom. Please\, watch your e-mails for the Zoom information.
URL:https://www.covenantakron.org/event/worship-committee-meeting-3/
LOCATION:Zoom
CATEGORIES:Meetings
END:VEVENT
BEGIN:VEVENT
DTSTART;TZID=America/New_York:20221206T100000
DTEND;TZID=America/New_York:20221206T110000
DTSTAMP:20260422T175708
CREATED:20221205T173439Z
LAST-MODIFIED:20221205T173439Z
UID:233429-1670320800-1670324400@www.covenantakron.org
SUMMARY:Eastminster Presbyter Stated Meeting
DESCRIPTION:Eastminster Presbyter will hold its Stated Meeting on Tuesday\, at 10:00 a.m. via Zoom. At this meeting\, the presbytery’s search committee will present\, Rev. Barry W. Chance\, its candidate for the General Presbyter & Stated Clerk. \nContact the office if you need help connecting to the meeting.
URL:https://www.covenantakron.org/event/eastminster-presbyter-stated-meeting/
LOCATION:Zoom
CATEGORIES:Meetings
ORGANIZER;CN="Eastminster Presbyter":MAILTO:diane@eastminsterpresbytery.org
END:VEVENT
BEGIN:VEVENT
DTSTART;TZID=America/New_York:20230117T110000
DTEND;TZID=America/New_York:20230117T120000
DTSTAMP:20260422T175708
CREATED:20230112T175900Z
LAST-MODIFIED:20230112T175900Z
UID:233518-1673953200-1673956800@www.covenantakron.org
SUMMARY:Finance Committee Meeting
DESCRIPTION:The Finance Committee will meet in Fellowship Hall to discuss the current state of NCCC’s financial health.
URL:https://www.covenantakron.org/event/finance-committee-meeting-3/
LOCATION:NCCC Fellowship Hall\, 1587 West Exchange St.\, Akron\, OH\, 44313\, United States
CATEGORIES:Meetings
END:VEVENT
BEGIN:VEVENT
DTSTART;TZID=America/New_York:20230117T153000
DTEND;TZID=America/New_York:20230117T163000
DTSTAMP:20260422T175708
CREATED:20230116T190714Z
LAST-MODIFIED:20230116T190714Z
UID:233538-1673969400-1673973000@www.covenantakron.org
SUMMARY:Mission Committee Meeting
DESCRIPTION:Tuesday afternoon the Mission Committee will meet at 3:30 p.m.
URL:https://www.covenantakron.org/event/mission-committee-meeting-3/
LOCATION:New Covenanty Community Church\, 1587 West Exchange Street\, Akron\, OH\, 44313\, United States
CATEGORIES:Meetings
END:VEVENT
BEGIN:VEVENT
DTSTART;TZID=America/New_York:20230123T160000
DTEND;TZID=America/New_York:20230123T170000
DTSTAMP:20260422T175708
CREATED:20230118T180955Z
LAST-MODIFIED:20230118T181043Z
UID:233546-1674489600-1674493200@www.covenantakron.org
SUMMARY:Governing Board Meeting
DESCRIPTION:This will be the first time the Governing Board meets with its new members Ken Heischman and Nancy Williams.
URL:https://www.covenantakron.org/event/governing-board-meeting-7/
LOCATION:New Covenant Community Church Fellowship Hall\, 1587 W Exchange St\, Akron\, OH\, 44313\, United States
CATEGORIES:Meetings
END:VEVENT
BEGIN:VEVENT
DTSTART;TZID=America/New_York:20230221T110000
DTEND;TZID=America/New_York:20230221T120000
DTSTAMP:20260422T175708
CREATED:20230215T162526Z
LAST-MODIFIED:20230215T162526Z
UID:233598-1676977200-1676980800@www.covenantakron.org
SUMMARY:Finance Committee Meeting
DESCRIPTION:This is a regularly scheduled meeting of the Finance Committee to discuss the current budget\, spending and forecast for NCCC.
URL:https://www.covenantakron.org/event/finance-committee-meeting-4/
LOCATION:NCCC Fellowship Hall\, 1587 West Exchange St.\, Akron\, OH\, 44313\, United States
CATEGORIES:Meetings
END:VEVENT
BEGIN:VEVENT
DTSTART;TZID=America/New_York:20230221T160000
DTEND;TZID=America/New_York:20230221T170000
DTSTAMP:20260422T175708
CREATED:20230221T141632Z
LAST-MODIFIED:20230221T141632Z
UID:233606-1676995200-1676998800@www.covenantakron.org
SUMMARY:Mission Committee Meeting
DESCRIPTION:Please notice time change. We had talked about 3:30 \, but 4 pm works better for one of our members. \nHope to talk about collection for earthquake victims and spring book fairs.
URL:https://www.covenantakron.org/event/mission-committee-meeting-4/
LOCATION:NCCC Fellowship Hall\, 1587 West Exchange St.\, Akron\, OH\, 44313\, United States
CATEGORIES:Meetings
END:VEVENT
BEGIN:VEVENT
DTSTART;TZID=America/New_York:20230222T160000
DTEND;TZID=America/New_York:20230222T170000
DTSTAMP:20260422T175708
CREATED:20230215T155530Z
LAST-MODIFIED:20230215T155530Z
UID:233588-1677081600-1677085200@www.covenantakron.org
SUMMARY:Bible Study
DESCRIPTION:Join us for the last installment of this three-part series on exploring\, “What’s Going to Happen to Us?: The Doctrine of Christian Hope for the Future\,” which is the last chapter of Dr. Shirley Guthrie’s book\, Christian Doctrine. We will gather by Zoom at 4:00 p.m. If you would like to participate but don’t have the book\, please contact Tom. \n 
URL:https://www.covenantakron.org/event/bible-study-4/
LOCATION:Zoom
CATEGORIES:Meetings
END:VEVENT
BEGIN:VEVENT
DTSTART;TZID=America/New_York:20230227T160000
DTEND;TZID=America/New_York:20230227T170000
DTSTAMP:20260422T175708
CREATED:20230215T161209Z
LAST-MODIFIED:20230215T161209Z
UID:233595-1677513600-1677517200@www.covenantakron.org
SUMMARY:Governing Board Meeting
DESCRIPTION:This is regularly scheduled meeting of the governing board.
URL:https://www.covenantakron.org/event/governing-board-meeting-8/
LOCATION:NCCC Fellowship Hall\, 1587 West Exchange St.\, Akron\, OH\, 44313\, United States
CATEGORIES:Meetings
END:VEVENT
BEGIN:VEVENT
DTSTART;TZID=America/New_York:20230416T113000
DTEND;TZID=America/New_York:20230416T114500
DTSTAMP:20260422T175708
CREATED:20230403T011546Z
LAST-MODIFIED:20230403T011546Z
UID:233670-1681644600-1681645500@www.covenantakron.org
SUMMARY:Congregational Meeting
DESCRIPTION:An important Congregational Meeting is set for April 16\, following morning Service.  Are members are requested to attend.
URL:https://www.covenantakron.org/event/congregational-meeting-3/
LOCATION:New Covenanty Community Church\, 1587 West Exchange Street\, Akron\, OH\, 44313\, United States
CATEGORIES:Meetings
END:VEVENT
BEGIN:VEVENT
DTSTART;TZID=America/New_York:20230718T160000
DTEND;TZID=America/New_York:20230718T170000
DTSTAMP:20260422T175708
CREATED:20230717T162348Z
LAST-MODIFIED:20230717T162348Z
UID:233794-1689696000-1689699600@www.covenantakron.org
SUMMARY:Mission Committee Meeting
DESCRIPTION:The Mission Committee will meet at 4:00.  Please feel free to bring your ideas.
URL:https://www.covenantakron.org/event/mission-committee-meeting-5/
LOCATION:New Covenanty Community Church\, 1587 West Exchange Street\, Akron\, OH\, 44313\, United States
CATEGORIES:Meetings
END:VEVENT
BEGIN:VEVENT
DTSTART;TZID=America/New_York:20231022T113000
DTEND;TZID=America/New_York:20231022T114000
DTSTAMP:20260422T175708
CREATED:20231012T165448Z
LAST-MODIFIED:20231012T165448Z
UID:233904-1697974200-1697974800@www.covenantakron.org
SUMMARY:Nominating Committee
DESCRIPTION:The committee will meet after service to consider openings on the Governing Board and the Nominating Committee.\nPlease\, submit any suggestions to Committee Chair\, Ken Williams. \n 
URL:https://www.covenantakron.org/event/nominating-committee/
LOCATION:New Covenanty Community Church\, 1587 West Exchange Street\, Akron\, OH\, 44313\, United States
CATEGORIES:Meetings
END:VEVENT
END:VCALENDAR