BEGIN:VCALENDAR
VERSION:2.0
PRODID:-//New Covenant Community Church - ECPv6.15.20//NONSGML v1.0//EN
CALSCALE:GREGORIAN
METHOD:PUBLISH
X-WR-CALNAME:New Covenant Community Church
X-ORIGINAL-URL:https://www.covenantakron.org
X-WR-CALDESC:Events for New Covenant Community Church
REFRESH-INTERVAL;VALUE=DURATION:PT1H
X-Robots-Tag:noindex
X-PUBLISHED-TTL:PT1H
BEGIN:VTIMEZONE
TZID:America/New_York
BEGIN:DAYLIGHT
TZOFFSETFROM:-0500
TZOFFSETTO:-0400
TZNAME:EDT
DTSTART:20210314T070000
END:DAYLIGHT
BEGIN:STANDARD
TZOFFSETFROM:-0400
TZOFFSETTO:-0500
TZNAME:EST
DTSTART:20211107T060000
END:STANDARD
BEGIN:DAYLIGHT
TZOFFSETFROM:-0500
TZOFFSETTO:-0400
TZNAME:EDT
DTSTART:20220313T070000
END:DAYLIGHT
BEGIN:STANDARD
TZOFFSETFROM:-0400
TZOFFSETTO:-0500
TZNAME:EST
DTSTART:20221106T060000
END:STANDARD
BEGIN:DAYLIGHT
TZOFFSETFROM:-0500
TZOFFSETTO:-0400
TZNAME:EDT
DTSTART:20230312T070000
END:DAYLIGHT
BEGIN:STANDARD
TZOFFSETFROM:-0400
TZOFFSETTO:-0500
TZNAME:EST
DTSTART:20231105T060000
END:STANDARD
END:VTIMEZONE
BEGIN:VEVENT
DTSTART;TZID=America/New_York:20220717T103000
DTEND;TZID=America/New_York:20220717T113000
DTSTAMP:20260419T092727
CREATED:20220713T153712Z
LAST-MODIFIED:20220713T153712Z
UID:233009-1658053800-1658057400@www.covenantakron.org
SUMMARY:All-Music Worship Service
DESCRIPTION:Sunday\, July 17\,please\, join us atAllenside Presbyterian Church\,410 Rexford St.\, Akron\,for an all-music worship service that will feature the voices of Olivia Roberts and Fiona Coughlin. \n 
URL:https://www.covenantakron.org/event/all-music-worship-service/
LOCATION:Allenside Presbyterian Church\, 410 Rexford St.\, Akron\, OH\, 44314
CATEGORIES:Worship Event
END:VEVENT
END:VCALENDAR