BEGIN:VCALENDAR
VERSION:2.0
PRODID:-//New Covenant Community Church - ECPv6.15.20//NONSGML v1.0//EN
CALSCALE:GREGORIAN
METHOD:PUBLISH
X-ORIGINAL-URL:https://www.covenantakron.org
X-WR-CALDESC:Events for New Covenant Community Church
REFRESH-INTERVAL;VALUE=DURATION:PT1H
X-Robots-Tag:noindex
X-PUBLISHED-TTL:PT1H
BEGIN:VTIMEZONE
TZID:America/New_York
BEGIN:DAYLIGHT
TZOFFSETFROM:-0500
TZOFFSETTO:-0400
TZNAME:EDT
DTSTART:20210314T070000
END:DAYLIGHT
BEGIN:STANDARD
TZOFFSETFROM:-0400
TZOFFSETTO:-0500
TZNAME:EST
DTSTART:20211107T060000
END:STANDARD
BEGIN:DAYLIGHT
TZOFFSETFROM:-0500
TZOFFSETTO:-0400
TZNAME:EDT
DTSTART:20220313T070000
END:DAYLIGHT
BEGIN:STANDARD
TZOFFSETFROM:-0400
TZOFFSETTO:-0500
TZNAME:EST
DTSTART:20221106T060000
END:STANDARD
BEGIN:DAYLIGHT
TZOFFSETFROM:-0500
TZOFFSETTO:-0400
TZNAME:EDT
DTSTART:20230312T070000
END:DAYLIGHT
BEGIN:STANDARD
TZOFFSETFROM:-0400
TZOFFSETTO:-0500
TZNAME:EST
DTSTART:20231105T060000
END:STANDARD
END:VTIMEZONE
BEGIN:VEVENT
DTSTART;TZID=America/New_York:20220415T120000
DTEND;TZID=America/New_York:20220415T133000
DTSTAMP:20260419T162743
CREATED:20220411T152140Z
LAST-MODIFIED:20220411T152140Z
UID:232741-1650024000-1650029400@www.covenantakron.org
SUMMARY:Good Friday Service
DESCRIPTION:Join us for Good Friday Service\, as we worship with our brothers and sisters from Westminster Presbyterian Church.
URL:https://www.covenantakron.org/event/good-friday-service/
LOCATION:New Covenanty Community Church\, 1587 West Exchange Street\, Akron\, OH\, 44313\, United States
CATEGORIES:Worship Event
END:VEVENT
END:VCALENDAR