BEGIN:VCALENDAR
VERSION:2.0
PRODID:-//New Covenant Community Church - ECPv6.15.20//NONSGML v1.0//EN
CALSCALE:GREGORIAN
METHOD:PUBLISH
X-ORIGINAL-URL:https://www.covenantakron.org
X-WR-CALDESC:Events for New Covenant Community Church
REFRESH-INTERVAL;VALUE=DURATION:PT1H
X-Robots-Tag:noindex
X-PUBLISHED-TTL:PT1H
BEGIN:VTIMEZONE
TZID:America/New_York
BEGIN:DAYLIGHT
TZOFFSETFROM:-0500
TZOFFSETTO:-0400
TZNAME:EDT
DTSTART:20210314T070000
END:DAYLIGHT
BEGIN:STANDARD
TZOFFSETFROM:-0400
TZOFFSETTO:-0500
TZNAME:EST
DTSTART:20211107T060000
END:STANDARD
BEGIN:DAYLIGHT
TZOFFSETFROM:-0500
TZOFFSETTO:-0400
TZNAME:EDT
DTSTART:20220313T070000
END:DAYLIGHT
BEGIN:STANDARD
TZOFFSETFROM:-0400
TZOFFSETTO:-0500
TZNAME:EST
DTSTART:20221106T060000
END:STANDARD
BEGIN:DAYLIGHT
TZOFFSETFROM:-0500
TZOFFSETTO:-0400
TZNAME:EDT
DTSTART:20230312T070000
END:DAYLIGHT
BEGIN:STANDARD
TZOFFSETFROM:-0400
TZOFFSETTO:-0500
TZNAME:EST
DTSTART:20231105T060000
END:STANDARD
END:VTIMEZONE
BEGIN:VEVENT
DTSTART;TZID=America/New_York:20220424T103000
DTEND;TZID=America/New_York:20220424T113000
DTSTAMP:20260419T162745
CREATED:20220421T192759Z
LAST-MODIFIED:20220421T192759Z
UID:232797-1650796200-1650799800@www.covenantakron.org
SUMMARY:Community Churches Sunday
DESCRIPTION:This Sunday is set aside to give local churches an opportunity to celebrate being a part of a unique Christian family\, the Community Church Movement\, and being a member of the International Council of Community Churches (ICCC). Marking this special Sunday helps congregations learn more about their church’s connection to the ICCC.\nTraditionally\, Community Churches Sunday has been celebrated on the last Sunday of April. This puts it close to the church’s celebration of Easter\, and themes of new life and new creation the season brings. The Community Church Movement is a new way and new expression of the Christian community. After centuries of division\, which have left the Christian family fragmented into many denominations\, the Community Church Movement desires a new way of Christian community – brought about through reconciliation\, unity\, love and new life. This year the date is April 24th\, the Sunday following Easter.
URL:https://www.covenantakron.org/event/community-churches-sunday/
LOCATION:New Covenanty Community Church\, 1587 West Exchange Street\, Akron\, OH\, 44313\, United States
CATEGORIES:Worship Event
END:VEVENT
END:VCALENDAR