BEGIN:VCALENDAR
VERSION:2.0
PRODID:-//New Covenant Community Church - ECPv6.15.20//NONSGML v1.0//EN
CALSCALE:GREGORIAN
METHOD:PUBLISH
X-WR-CALNAME:New Covenant Community Church
X-ORIGINAL-URL:https://www.covenantakron.org
X-WR-CALDESC:Events for New Covenant Community Church
REFRESH-INTERVAL;VALUE=DURATION:PT1H
X-Robots-Tag:noindex
X-PUBLISHED-TTL:PT1H
BEGIN:VTIMEZONE
TZID:America/New_York
BEGIN:DAYLIGHT
TZOFFSETFROM:-0500
TZOFFSETTO:-0400
TZNAME:EDT
DTSTART:20180311T070000
END:DAYLIGHT
BEGIN:STANDARD
TZOFFSETFROM:-0400
TZOFFSETTO:-0500
TZNAME:EST
DTSTART:20181104T060000
END:STANDARD
BEGIN:DAYLIGHT
TZOFFSETFROM:-0500
TZOFFSETTO:-0400
TZNAME:EDT
DTSTART:20190310T070000
END:DAYLIGHT
BEGIN:STANDARD
TZOFFSETFROM:-0400
TZOFFSETTO:-0500
TZNAME:EST
DTSTART:20191103T060000
END:STANDARD
BEGIN:DAYLIGHT
TZOFFSETFROM:-0500
TZOFFSETTO:-0400
TZNAME:EDT
DTSTART:20200308T070000
END:DAYLIGHT
BEGIN:STANDARD
TZOFFSETFROM:-0400
TZOFFSETTO:-0500
TZNAME:EST
DTSTART:20201101T060000
END:STANDARD
END:VTIMEZONE
BEGIN:VEVENT
DTSTART;TZID=America/New_York:20190723T070000
DTEND;TZID=America/New_York:20190723T210000
DTSTAMP:20260424T142740
CREATED:20190715T131925Z
LAST-MODIFIED:20190715T131925Z
UID:1235-1563865200-1563915600@www.covenantakron.org
SUMMARY:Movie Night!
DESCRIPTION:It’s Summer! It’s Baseball! \nSo on Tuesday\, July 23\, at 7 PM\, we are going to celebrate America’s favorite summer past time by watching the movie “A League of their Own”. \nThat’s not all… The movie is free and so is the popcorn. Please join us at the church for a fun evening where we can relax\, laugh\,  enjoy each other’s company and eat all the popcorn we want!
URL:https://www.covenantakron.org/event/1235/
LOCATION:New Covenant Community Church Fellowship Hall\, 1587 W Exchange St\, Akron\, OH\, 44313\, United States
END:VEVENT
BEGIN:VEVENT
DTSTART;TZID=America/New_York:20190723T070000
DTEND;TZID=America/New_York:20190723T210000
DTSTAMP:20260424T142740
CREATED:20190715T131925Z
LAST-MODIFIED:20190715T131925Z
UID:230872-1563865200-1563915600@www.covenantakron.org
SUMMARY:Movie Night!
DESCRIPTION:It’s Summer! It’s Baseball! \nSo on Tuesday\, July 23\, at 7 PM\, we are going to celebrate America’s favorite summer past time by watching the movie “A League of their Own”. \nThat’s not all… The movie is free and so is the popcorn. Please join us at the church for a fun evening where we can relax\, laugh\,  enjoy each other’s company and eat all the popcorn we want!
URL:https://www.covenantakron.org/event/1235-2/
LOCATION:New Covenant Community Church Fellowship Hall\, 1587 W Exchange St\, Akron\, OH\, 44313\, United States
END:VEVENT
BEGIN:VEVENT
DTSTART;TZID=America/New_York:20190723T070000
DTEND;TZID=America/New_York:20190723T210000
DTSTAMP:20260424T142740
CREATED:20190715T131925Z
LAST-MODIFIED:20190715T131925Z
UID:230973-1563865200-1563915600@www.covenantakron.org
SUMMARY:Movie Night!
DESCRIPTION:It’s Summer! It’s Baseball! \nSo on Tuesday\, July 23\, at 7 PM\, we are going to celebrate America’s favorite summer past time by watching the movie “A League of their Own”. \nThat’s not all… The movie is free and so is the popcorn. Please join us at the church for a fun evening where we can relax\, laugh\,  enjoy each other’s company and eat all the popcorn we want!
URL:https://www.covenantakron.org/event/1235-3/
LOCATION:New Covenant Community Church Fellowship Hall\, 1587 W Exchange St\, Akron\, OH\, 44313\, United States
END:VEVENT
BEGIN:VEVENT
DTSTART;TZID=America/New_York:20190728T103000
DTEND;TZID=America/New_York:20190728T113000
DTSTAMP:20260424T142740
CREATED:20190726T135219Z
LAST-MODIFIED:20190726T135219Z
UID:1290-1564309800-1564313400@www.covenantakron.org
SUMMARY:Sunday Worship
DESCRIPTION:Join us for lemonade and sweets prior to Sunday worship each week. Our Sunday worship starts at 10:30 am and typically last about an hour. As a visitor\, you are never singled out but are always warmly welcomed.
URL:https://www.covenantakron.org/event/sunday-worship/
LOCATION:New Covenant Community Church Fellowship Hall\, 1587 W Exchange St\, Akron\, OH\, 44313\, United States
END:VEVENT
BEGIN:VEVENT
DTSTART;TZID=America/New_York:20190728T103000
DTEND;TZID=America/New_York:20190728T113000
DTSTAMP:20260424T142740
CREATED:20190726T135219Z
LAST-MODIFIED:20190726T135219Z
UID:230874-1564309800-1564313400@www.covenantakron.org
SUMMARY:Sunday Worship
DESCRIPTION:Join us for lemonade and sweets prior to Sunday worship each week. Our Sunday worship starts at 10:30 am and typically last about an hour. As a visitor\, you are never singled out but are always warmly welcomed.
URL:https://www.covenantakron.org/event/sunday-worship-5/
LOCATION:New Covenant Community Church Fellowship Hall\, 1587 W Exchange St\, Akron\, OH\, 44313\, United States
END:VEVENT
BEGIN:VEVENT
DTSTART;TZID=America/New_York:20190728T103000
DTEND;TZID=America/New_York:20190728T113000
DTSTAMP:20260424T142740
CREATED:20190726T135219Z
LAST-MODIFIED:20190726T135219Z
UID:230975-1564309800-1564313400@www.covenantakron.org
SUMMARY:Sunday Worship
DESCRIPTION:Join us for lemonade and sweets prior to Sunday worship each week. Our Sunday worship starts at 10:30 am and typically last about an hour. As a visitor\, you are never singled out but are always warmly welcomed.
URL:https://www.covenantakron.org/event/sunday-worship-6/
LOCATION:New Covenant Community Church Fellowship Hall\, 1587 W Exchange St\, Akron\, OH\, 44313\, United States
END:VEVENT
END:VCALENDAR