BEGIN:VCALENDAR
VERSION:2.0
PRODID:-//New Covenant Community Church - ECPv6.15.20//NONSGML v1.0//EN
CALSCALE:GREGORIAN
METHOD:PUBLISH
X-WR-CALNAME:New Covenant Community Church
X-ORIGINAL-URL:https://www.covenantakron.org
X-WR-CALDESC:Events for New Covenant Community Church
REFRESH-INTERVAL;VALUE=DURATION:PT1H
X-Robots-Tag:noindex
X-PUBLISHED-TTL:PT1H
BEGIN:VTIMEZONE
TZID:America/New_York
BEGIN:DAYLIGHT
TZOFFSETFROM:-0500
TZOFFSETTO:-0400
TZNAME:EDT
DTSTART:20200308T070000
END:DAYLIGHT
BEGIN:STANDARD
TZOFFSETFROM:-0400
TZOFFSETTO:-0500
TZNAME:EST
DTSTART:20201101T060000
END:STANDARD
BEGIN:DAYLIGHT
TZOFFSETFROM:-0500
TZOFFSETTO:-0400
TZNAME:EDT
DTSTART:20210314T070000
END:DAYLIGHT
BEGIN:STANDARD
TZOFFSETFROM:-0400
TZOFFSETTO:-0500
TZNAME:EST
DTSTART:20211107T060000
END:STANDARD
BEGIN:DAYLIGHT
TZOFFSETFROM:-0500
TZOFFSETTO:-0400
TZNAME:EDT
DTSTART:20220313T070000
END:DAYLIGHT
BEGIN:STANDARD
TZOFFSETFROM:-0400
TZOFFSETTO:-0500
TZNAME:EST
DTSTART:20221106T060000
END:STANDARD
END:VTIMEZONE
BEGIN:VEVENT
DTSTART;TZID=America/New_York:20210710T180000
DTEND;TZID=America/New_York:20210710T190000
DTSTAMP:20260423T002134
CREATED:20210701T175431Z
LAST-MODIFIED:20210701T175431Z
UID:232319-1625940000-1625943600@www.covenantakron.org
SUMMARY:
DESCRIPTION:Come support our Interim Music Director\, Olivia Roberts\, as she performs classical works from Mozart\, Beethoven and Cesti.
URL:https://www.covenantakron.org/event/232319/
LOCATION:Firestone Park Presbyterian Church\, 275 S. Firestone Blvd.\, Akron\, OH\, 44301\, United States
CATEGORIES:Worship Event
ATTACH;FMTTYPE=image/png:https://www.covenantakron.org/wp-content/uploads/2021/07/Olivia-Roberts-Recital.png
END:VEVENT
BEGIN:VEVENT
DTSTART;TZID=America/New_York:20210718T103000
DTEND;TZID=America/New_York:20210718T120000
DTSTAMP:20260423T002134
CREATED:20210701T182352Z
LAST-MODIFIED:20210701T182741Z
UID:232325-1626604200-1626609600@www.covenantakron.org
SUMMARY:Musical Worship Service
DESCRIPTION:Our joint “all music” worship with our sister congregations at Allenside Presbyterian Church and Firestone Park Presbyterian Church on Sunday\, July 18. \n  \n 
URL:https://www.covenantakron.org/event/musical-worship-service/
LOCATION:Firestone Park Presbyterian Church\, 275 S. Firestone Blvd.\, Akron\, OH\, 44301\, United States
CATEGORIES:Worship Event
ATTACH;FMTTYPE=image/png:https://www.covenantakron.org/wp-content/uploads/2021/07/Music.png
END:VEVENT
END:VCALENDAR