BEGIN:VCALENDAR
VERSION:2.0
PRODID:-//New Covenant Community Church - ECPv6.15.20//NONSGML v1.0//EN
CALSCALE:GREGORIAN
METHOD:PUBLISH
X-ORIGINAL-URL:https://www.covenantakron.org
X-WR-CALDESC:Events for New Covenant Community Church
REFRESH-INTERVAL;VALUE=DURATION:PT1H
X-Robots-Tag:noindex
X-PUBLISHED-TTL:PT1H
BEGIN:VTIMEZONE
TZID:America/New_York
BEGIN:DAYLIGHT
TZOFFSETFROM:-0500
TZOFFSETTO:-0400
TZNAME:EDT
DTSTART:20210314T070000
END:DAYLIGHT
BEGIN:STANDARD
TZOFFSETFROM:-0400
TZOFFSETTO:-0500
TZNAME:EST
DTSTART:20211107T060000
END:STANDARD
BEGIN:DAYLIGHT
TZOFFSETFROM:-0500
TZOFFSETTO:-0400
TZNAME:EDT
DTSTART:20220313T070000
END:DAYLIGHT
BEGIN:STANDARD
TZOFFSETFROM:-0400
TZOFFSETTO:-0500
TZNAME:EST
DTSTART:20221106T060000
END:STANDARD
BEGIN:DAYLIGHT
TZOFFSETFROM:-0500
TZOFFSETTO:-0400
TZNAME:EDT
DTSTART:20230312T070000
END:DAYLIGHT
BEGIN:STANDARD
TZOFFSETFROM:-0400
TZOFFSETTO:-0500
TZNAME:EST
DTSTART:20231105T060000
END:STANDARD
END:VTIMEZONE
BEGIN:VEVENT
DTSTART;TZID=America/New_York:20220501T103000
DTEND;TZID=America/New_York:20220501T113000
DTSTAMP:20260422T044959
CREATED:20220421T192235Z
LAST-MODIFIED:20220421T192316Z
UID:232795-1651401000-1651404600@www.covenantakron.org
SUMMARY:T-Shirt Sunday
DESCRIPTION:Join us for t-shirt Sunday\, as we prepare to walk in the 13th Annual AAIC Hunger Walk.  Come enjoy the service\, and support our walkers.
URL:https://www.covenantakron.org/event/t-shirt-sunday/
LOCATION:New Covenanty Community Church\, 1587 West Exchange Street\, Akron\, OH\, 44313\, United States
CATEGORIES:Worship Event
END:VEVENT
BEGIN:VEVENT
DTSTART;TZID=America/New_York:20220501T140000
DTEND;TZID=America/New_York:20220501T160000
DTSTAMP:20260422T044959
CREATED:20220411T165750Z
LAST-MODIFIED:20220411T170221Z
UID:232752-1651413600-1651420800@www.covenantakron.org
SUMMARY:13th Annual AAIC Hunger Walk
DESCRIPTION:After a two year hiatus\, AAIC wants you to come out and walk in this year’s Hunger Walk. \nThis invitation isn’t just for AAIC members.  We want to see a coalition of faith communities join us for this year’s walk. See what we can do when we all come together\, and work toward a common goal. \nRegistration starts at 2:00 p.m. \nThe walk steps off at 3:00. \n \nYou can also give online at akroninterfaith.org/hunger-walk/. \n  \n 
URL:https://www.covenantakron.org/event/13th-annual-aaic-hunger-walk/
LOCATION:Unitarian Universalist Church of Akron\, 3300 Morewood Road\, Akron\, OH\, 44333\, United States
CATEGORIES:Community Outreach,Donation Drop-Off
END:VEVENT
BEGIN:VEVENT
DTSTART;TZID=America/New_York:20220517T170000
DTEND;TZID=America/New_York:20220517T180000
DTSTAMP:20260422T044959
CREATED:20220517T150302Z
LAST-MODIFIED:20220517T150302Z
UID:232836-1652806800-1652810400@www.covenantakron.org
SUMMARY:Mission Committee Meeting
DESCRIPTION:Mission Committee is scheduled to meet the third Tuesday of each month at 5:00
URL:https://www.covenantakron.org/event/mission-committee-meeting/
LOCATION:NCCC Fellowship Hall\, 1587 West Exchange St.\, Akron\, OH\, 44313\, United States
CATEGORIES:Meetings
END:VEVENT
BEGIN:VEVENT
DTSTART;TZID=America/New_York:20220526T000000
DTEND;TZID=America/New_York:20220526T000000
DTSTAMP:20260422T044959
CREATED:20220526T160348Z
LAST-MODIFIED:20220526T160403Z
UID:232850-1653523200-1653523200@www.covenantakron.org
SUMMARY:Play & Potluck Picnic at Porthouse
DESCRIPTION:LITTLE SHOP\nOF\nHORRORS\nThe group will gather at 6:30 p.m. on June 30th for a potluck picnic on the lawn.  The Fellowship Committee will provide the wine\, iced tea\, and chicken plus paper plates\, napkins\, cups\, eating utensils. \nWe need volunteers to sign-up and bring: appetizer/s\, salads (pasta\, fruit\, etc.)\, vegetable casserole/s\, and desserts. \nYou will need to bring your own beverage\, if you do not want wine or iced tea.  Coffee can be purchased there. \nThen at 8:00 p.m.\, we’ll enjoy LITTLE SHOP OF HORRORS play at Porthouse Theatre.  To purchase your tickets\, please contact Jackie Horton. Tickets are $25/person.  Make checks out to Jackie and give them to her on Sunday or mail to her house.  You will receive your ticket at the play. \n 
URL:https://www.covenantakron.org/event/play-potluck-picnic-at-porthouse/
LOCATION:OH
END:VEVENT
END:VCALENDAR