BEGIN:VCALENDAR
VERSION:2.0
PRODID:-//New Covenant Community Church - ECPv6.15.20//NONSGML v1.0//EN
CALSCALE:GREGORIAN
METHOD:PUBLISH
X-WR-CALNAME:New Covenant Community Church
X-ORIGINAL-URL:https://www.covenantakron.org
X-WR-CALDESC:Events for New Covenant Community Church
REFRESH-INTERVAL;VALUE=DURATION:PT1H
X-Robots-Tag:noindex
X-PUBLISHED-TTL:PT1H
BEGIN:VTIMEZONE
TZID:America/New_York
BEGIN:DAYLIGHT
TZOFFSETFROM:-0500
TZOFFSETTO:-0400
TZNAME:EDT
DTSTART:20200308T070000
END:DAYLIGHT
BEGIN:STANDARD
TZOFFSETFROM:-0400
TZOFFSETTO:-0500
TZNAME:EST
DTSTART:20201101T060000
END:STANDARD
BEGIN:DAYLIGHT
TZOFFSETFROM:-0500
TZOFFSETTO:-0400
TZNAME:EDT
DTSTART:20210314T070000
END:DAYLIGHT
BEGIN:STANDARD
TZOFFSETFROM:-0400
TZOFFSETTO:-0500
TZNAME:EST
DTSTART:20211107T060000
END:STANDARD
BEGIN:DAYLIGHT
TZOFFSETFROM:-0500
TZOFFSETTO:-0400
TZNAME:EDT
DTSTART:20220313T070000
END:DAYLIGHT
BEGIN:STANDARD
TZOFFSETFROM:-0400
TZOFFSETTO:-0500
TZNAME:EST
DTSTART:20221106T060000
END:STANDARD
END:VTIMEZONE
BEGIN:VEVENT
DTSTART;TZID=America/New_York:20210912T100000
DTEND;TZID=America/New_York:20210912T140000
DTSTAMP:20260420T035730
CREATED:20210826T175533Z
LAST-MODIFIED:20210906T200609Z
UID:232405-1631440800-1631455200@www.covenantakron.org
SUMMARY:JOINT WORSHIP SERVICE AT THE TADMOR SHRINE
DESCRIPTION:Sunday\, September 12th\, we are scheduled to participate in a joint worship service with Allenside Presbyterian Church\, Firestone Park Presbyterian Church\, and North Springfield Presbyterian Church at the Tadmor Shrine (3000 Krebs Drive\, Akron). \nThis service will also include the Blessing of the Animals and communion.\nDog treats will be provided. \nThere is also a sign-up sheet for the foyer for the lunch that will follow the service.  NCCC has been asked to bring cold sides (coleslaw\, potato salad\, veggie tray\, etc.) \nPrior to COVID\, we have shared in this worship experience a couple of times (one was relocated due to rain). While CDC recommendations seem to change daily\, it would be good to put this onto your calendar. \n 
URL:https://www.covenantakron.org/event/232405/
LOCATION:Tadmor Shrine\, 3000 Krebs Drive\, Akron\, OH\, 44319\, United States
CATEGORIES:Brunches & Dinners,Worship Event
ATTACH;FMTTYPE=image/png:https://www.covenantakron.org/wp-content/uploads/2021/08/blessing-of-animals.png
END:VEVENT
END:VCALENDAR