BEGIN:VCALENDAR
VERSION:2.0
PRODID:-//New Covenant Community Church - ECPv6.15.20//NONSGML v1.0//EN
CALSCALE:GREGORIAN
METHOD:PUBLISH
X-WR-CALNAME:New Covenant Community Church
X-ORIGINAL-URL:https://www.covenantakron.org
X-WR-CALDESC:Events for New Covenant Community Church
REFRESH-INTERVAL;VALUE=DURATION:PT1H
X-Robots-Tag:noindex
X-PUBLISHED-TTL:PT1H
BEGIN:VTIMEZONE
TZID:America/New_York
BEGIN:DAYLIGHT
TZOFFSETFROM:-0500
TZOFFSETTO:-0400
TZNAME:EDT
DTSTART:20210314T070000
END:DAYLIGHT
BEGIN:STANDARD
TZOFFSETFROM:-0400
TZOFFSETTO:-0500
TZNAME:EST
DTSTART:20211107T060000
END:STANDARD
BEGIN:DAYLIGHT
TZOFFSETFROM:-0500
TZOFFSETTO:-0400
TZNAME:EDT
DTSTART:20220313T070000
END:DAYLIGHT
BEGIN:STANDARD
TZOFFSETFROM:-0400
TZOFFSETTO:-0500
TZNAME:EST
DTSTART:20221106T060000
END:STANDARD
BEGIN:DAYLIGHT
TZOFFSETFROM:-0500
TZOFFSETTO:-0400
TZNAME:EDT
DTSTART:20230312T070000
END:DAYLIGHT
BEGIN:STANDARD
TZOFFSETFROM:-0400
TZOFFSETTO:-0500
TZNAME:EST
DTSTART:20231105T060000
END:STANDARD
END:VTIMEZONE
BEGIN:VEVENT
DTSTART;TZID=America/New_York:20220414T190000
DTEND;TZID=America/New_York:20220414T200000
DTSTAMP:20260419T203141
CREATED:20220407T175158Z
LAST-MODIFIED:20220407T175158Z
UID:232724-1649962800-1649966400@www.covenantakron.org
SUMMARY:Maundy Thursday
DESCRIPTION:On Thursday evening\, April 14\, at 7:00 p.m.\, we will have our Maundy Thursday Communion Service\, commemorating the Last Supper that Jesus shared with His disciples.  And\, the service will include soloist Austin Galindo. \nThis service will not be streamed on our YouTube Channel. \n 
URL:https://www.covenantakron.org/event/maundy-thursday/
LOCATION:New Covenanty Community Church\, 1587 West Exchange Street\, Akron\, OH\, 44313\, United States
CATEGORIES:Worship Event
END:VEVENT
END:VCALENDAR